BEGIN:VCALENDAR
VERSION:2.0
PRODID:-//104.24.104.1//NONSGML kigkonsult.se iCalcreator 2.26.9//
CALSCALE:GREGORIAN
METHOD:PUBLISH
X-FROM-URL:https://toapacific.org.nz
X-WR-TIMEZONE:Pacific/Auckland
BEGIN:VTIMEZONE
TZID:Pacific/Auckland
X-LIC-LOCATION:Pacific/Auckland
BEGIN:STANDARD
DTSTART:20200405T030000
TZOFFSETFROM:+1300
TZOFFSETTO:+1200
RDATE:20210404T030000
TZNAME:NZST
END:STANDARD
BEGIN:DAYLIGHT
DTSTART:20190929T020000
TZOFFSETFROM:+1200
TZOFFSETTO:+1300
RDATE:20200927T020000
TZNAME:NZDT
END:DAYLIGHT
END:VTIMEZONE
BEGIN:VEVENT
UID:ai1ec-216@test.pcrepairs.nz/toapac
DTSTAMP:20191218T110212Z
CATEGORIES:
CONTACT:
DESCRIPTION:
DTSTART;TZID=Pacific/Auckland:20171128T100000
DTEND;TZID=Pacific/Auckland:20171128T140000
EXDATE;TZID=Pacific/Auckland:20171212T100000
EXDATE;TZID=Pacific/Auckland:20171219T100000
EXDATE;TZID=Pacific/Auckland:20171226T100000
EXDATE;TZID=Pacific/Auckland:20180102T100000
EXDATE;TZID=Pacific/Auckland:20180109T100000
GEO:-36.941312;+174.841154
LOCATION:TOA Pacific Incorporated @ 214 Great South Rd\, Otahuhu\, Auckland
  1062\, New Zealand
RRULE:FREQ=WEEKLY;BYDAY=TU;WKST=MO
SEQUENCE:0
SUMMARY:Pulapula La Goto Group
URL:https://toapacific.org.nz/event/pulapula-la-goto-group/
X-COST-TYPE:free
X-ALT-DESC;FMTTYPE=text/html:<!DOCTYPE HTML PUBLIC '-//W3C//DTD HTML 3.2//E
 N'>\\n<HTML>\\n<HEAD>\\n<TITLE></TITLE>\\n</HEAD>\\n<BODY><div id='et-boc'
  class='et-boc'>\n			\n		<div class='et-l et-l--post'>\n			<div class='et_builder_
 inner_content et_pb_gutters3'>\n		\n		</div><!-- .et_builder_inner_content -->
 \n	</div><!-- .et-l -->\n	\n			\n		</div><!-- #et-boc -->\n		</BODY></HTML>
END:VEVENT
BEGIN:VEVENT
UID:ai1ec-214@test.pcrepairs.nz/toapac
DTSTAMP:20191218T110212Z
CATEGORIES:
CONTACT:
DESCRIPTION:
DTSTART;TZID=Pacific/Auckland:20171129T110000
DTEND;TZID=Pacific/Auckland:20171129T140000
EXDATE;TZID=Pacific/Auckland:20171213T110000
EXDATE;TZID=Pacific/Auckland:20171220T110000
EXDATE;TZID=Pacific/Auckland:20171227T110000
EXDATE;TZID=Pacific/Auckland:20180103T110000
EXDATE;TZID=Pacific/Auckland:20180110T110000
GEO:-36.941312;+174.841154
LOCATION:TOA Pacific Incorporated @ 214 Great South Rd\, Otahuhu\, Auckland
  1062\, New Zealand
RRULE:FREQ=WEEKLY;BYDAY=WE;WKST=MO
SEQUENCE:0
SUMMARY:Time Out Programme
URL:https://toapacific.org.nz/event/time-out-programme/
X-COST-TYPE:free
X-ALT-DESC;FMTTYPE=text/html:<!DOCTYPE HTML PUBLIC '-//W3C//DTD HTML 3.2//E
 N'>\\n<HTML>\\n<HEAD>\\n<TITLE></TITLE>\\n</HEAD>\\n<BODY><div id='et-boc'
  class='et-boc'>\n			\n		<div class='et-l et-l--post'>\n			<div class='et_builder_
 inner_content et_pb_gutters3'>\n		\n		</div><!-- .et_builder_inner_content -->
 \n	</div><!-- .et-l -->\n	\n			\n		</div><!-- #et-boc -->\n		</BODY></HTML>
END:VEVENT
BEGIN:VEVENT
UID:ai1ec-207@test.pcrepairs.nz/toapac
DTSTAMP:20191218T110212Z
CATEGORIES:
CONTACT:
DESCRIPTION:
DTSTART;TZID=Pacific/Auckland:20171130T110000
DTEND;TZID=Pacific/Auckland:20171130T140000
EXDATE;TZID=Pacific/Auckland:20171214T110000
EXDATE;TZID=Pacific/Auckland:20171221T110000
EXDATE;TZID=Pacific/Auckland:20171228T110000
EXDATE;TZID=Pacific/Auckland:20180104T110000
EXDATE;TZID=Pacific/Auckland:20180111T110000
GEO:-37.022468;+174.897828
LOCATION:TOA Pacific  @ 214 Great South Rd\, Manurewa\, Auckland 2102\, New
  Zealand
RRULE:FREQ=WEEKLY;BYDAY=TH;WKST=MO
SEQUENCE:0
SUMMARY:Movetengata Group
URL:https://toapacific.org.nz/event/movetengata-group/
X-COST-TYPE:free
X-ALT-DESC;FMTTYPE=text/html:<!DOCTYPE HTML PUBLIC '-//W3C//DTD HTML 3.2//E
 N'>\\n<HTML>\\n<HEAD>\\n<TITLE></TITLE>\\n</HEAD>\\n<BODY><div id='et-boc'
  class='et-boc'>\n			\n		<div class='et-l et-l--post'>\n			<div class='et_builder_
 inner_content et_pb_gutters3'>\n		\n		</div><!-- .et_builder_inner_content -->
 \n	</div><!-- .et-l -->\n	\n			\n		</div><!-- #et-boc -->\n		</BODY></HTML>
END:VEVENT
BEGIN:VEVENT
UID:ai1ec-215@test.pcrepairs.nz/toapac
DTSTAMP:20191218T110212Z
CATEGORIES:
CONTACT:
DESCRIPTION:
DTSTART;TZID=Pacific/Auckland:20171201T110000
DTEND;TZID=Pacific/Auckland:20171201T130000
EXDATE;TZID=Pacific/Auckland:20171215T110000
EXDATE;TZID=Pacific/Auckland:20171222T110000
EXDATE;TZID=Pacific/Auckland:20171229T110000
EXDATE;TZID=Pacific/Auckland:20180105T110000
EXDATE;TZID=Pacific/Auckland:20180112T110000
GEO:-36.963694;+174.814096
LOCATION:St Therese Parish Hall @ 10 Wickman Way\, Mangere East\, Auckland 
 2024\, New Zealand
RRULE:FREQ=WEEKLY;BYDAY=FR;WKST=MO
SEQUENCE:0
SUMMARY:St Therese Group
URL:https://toapacific.org.nz/event/st-therese-group/
X-COST-TYPE:free
X-ALT-DESC;FMTTYPE=text/html:<!DOCTYPE HTML PUBLIC '-//W3C//DTD HTML 3.2//E
 N'>\\n<HTML>\\n<HEAD>\\n<TITLE></TITLE>\\n</HEAD>\\n<BODY><div id='et-boc'
  class='et-boc'>\n			\n		<div class='et-l et-l--post'>\n			<div class='et_builder_
 inner_content et_pb_gutters3'>\n		\n		</div><!-- .et_builder_inner_content -->
 \n	</div><!-- .et-l -->\n	\n			\n		</div><!-- #et-boc -->\n		</BODY></HTML>
END:VEVENT
BEGIN:VEVENT
UID:ai1ec-211@test.pcrepairs.nz/toapac
DTSTAMP:20191218T110212Z
CATEGORIES:
CONTACT:
DESCRIPTION:
DTSTART;TZID=Pacific/Auckland:20171204T110000
DTEND;TZID=Pacific/Auckland:20171204T140000
EXDATE;TZID=Pacific/Auckland:20171218T110000
EXDATE;TZID=Pacific/Auckland:20180101T110000
EXDATE;TZID=Pacific/Auckland:20180115T110000
GEO:-36.903595;+174.739598
LOCATION:Mount Roskill War Memorial Hall @ 3 May Rd\, Mount Roskill\, Auckl
 and 1041\, New Zealand
RRULE:FREQ=WEEKLY;INTERVAL=2;BYDAY=MO;WKST=MO
SEQUENCE:0
SUMMARY:Golden Hope Group
URL:https://toapacific.org.nz/event/golden-hope/
X-COST-TYPE:free
X-ALT-DESC;FMTTYPE=text/html:<!DOCTYPE HTML PUBLIC '-//W3C//DTD HTML 3.2//E
 N'>\\n<HTML>\\n<HEAD>\\n<TITLE></TITLE>\\n</HEAD>\\n<BODY><div id='et-boc'
  class='et-boc'>\n			\n		<div class='et-l et-l--post'>\n			<div class='et_builder_
 inner_content et_pb_gutters3'>\n		\n		</div><!-- .et_builder_inner_content -->
 \n	</div><!-- .et-l -->\n	\n			\n		</div><!-- #et-boc -->\n		</BODY></HTML>
END:VEVENT
BEGIN:VEVENT
UID:ai1ec-213@test.pcrepairs.nz/toapac
DTSTAMP:20191218T110212Z
CATEGORIES:
CONTACT:
DESCRIPTION:
DTSTART;TZID=Pacific/Auckland:20171204T110000
DTEND;TZID=Pacific/Auckland:20171204T120000
EXDATE;TZID=Pacific/Auckland:20171211T110000
EXDATE;TZID=Pacific/Auckland:20171218T110000
EXDATE;TZID=Pacific/Auckland:20171225T110000
EXDATE;TZID=Pacific/Auckland:20180101T110000
EXDATE;TZID=Pacific/Auckland:20180108T110000
GEO:+40.075981;-74.827046
LOCATION:Lotofaleia Church Hall @ 34 Orly Way\, Burlington\, NJ 08016\, USA
RRULE:FREQ=WEEKLY;BYDAY=MO;WKST=MO
SEQUENCE:0
SUMMARY:Lotofaleia Group
URL:https://toapacific.org.nz/event/lotofaleia-group/
X-COST-TYPE:free
X-ALT-DESC;FMTTYPE=text/html:<!DOCTYPE HTML PUBLIC '-//W3C//DTD HTML 3.2//E
 N'>\\n<HTML>\\n<HEAD>\\n<TITLE></TITLE>\\n</HEAD>\\n<BODY><div id='et-boc'
  class='et-boc'>\n			\n		<div class='et-l et-l--post'>\n			<div class='et_builder_
 inner_content et_pb_gutters3'>\n		\n		</div><!-- .et_builder_inner_content -->
 \n	</div><!-- .et-l -->\n	\n			\n		</div><!-- #et-boc -->\n		</BODY></HTML>
END:VEVENT
BEGIN:VEVENT
UID:ai1ec-231@toapacific.org.nz
DTSTAMP:20191218T110212Z
CATEGORIES:
CONTACT:
DESCRIPTION:
DTSTART;TZID=Pacific/Auckland:20171220T170000
DTEND;TZID=Pacific/Auckland:20180108T083000
GEO:-36.941312;+174.841154
LOCATION:TOA Pacific Incorporated @ 214 Great South Rd\, Otahuhu\, Auckland
  1062\, New Zealand
SEQUENCE:0
SUMMARY:Christmas Close Down Period
URL:https://toapacific.org.nz/event/christmas-close-down-period/
X-COST-TYPE:free
X-ALT-DESC;FMTTYPE=text/html:<!DOCTYPE HTML PUBLIC '-//W3C//DTD HTML 3.2//E
 N'>\\n<HTML>\\n<HEAD>\\n<TITLE></TITLE>\\n</HEAD>\\n<BODY><div id='et-boc'
  class='et-boc'>\n			\n		<div class='et-l et-l--post'>\n			<div class='et_builder_
 inner_content et_pb_gutters3'>\n		\n		</div><!-- .et_builder_inner_content -->
 \n	</div><!-- .et-l -->\n	\n			\n		</div><!-- #et-boc -->\n		</BODY></HTML>
END:VEVENT
END:VCALENDAR
