BEGIN:VCALENDAR
VERSION:2.0
PRODID:-//104.24.104.1//NONSGML kigkonsult.se iCalcreator 2.26.9//
CALSCALE:GREGORIAN
METHOD:PUBLISH
X-WR-CALNAME:TOA Pacific Inc
X-WR-CALDESC:Treasuring Older Adults\, Aiga Carers  Pacific Families
X-FROM-URL:https://toapacific.org.nz
X-WR-TIMEZONE:Pacific/Auckland
BEGIN:VTIMEZONE
TZID:Pacific/Auckland
X-LIC-LOCATION:Pacific/Auckland
BEGIN:STANDARD
DTSTART:20200405T030000
TZOFFSETFROM:+1300
TZOFFSETTO:+1200
RDATE:20210404T030000
TZNAME:NZST
END:STANDARD
BEGIN:DAYLIGHT
DTSTART:20190929T020000
TZOFFSETFROM:+1200
TZOFFSETTO:+1300
RDATE:20200927T020000
TZNAME:NZDT
END:DAYLIGHT
END:VTIMEZONE
BEGIN:VEVENT
UID:ai1ec-215@test.pcrepairs.nz/toapac
DTSTAMP:20191218T111837Z
CATEGORIES:
CONTACT:
DESCRIPTION:<div id='et-boc' class='et-boc'>\n			\n		<div class='et-l et-l--post
 '>\n			<div class='et_builder_inner_content et_pb_gutters3'>\n		\n		</div><!-- .e
 t_builder_inner_content -->\n	</div><!-- .et-l -->\n	\n			\n		</div><!-- #et-boc 
 -->
DTSTART;TZID=Pacific/Auckland:20171201T110000
DTEND;TZID=Pacific/Auckland:20171201T130000
EXDATE;TZID=Pacific/Auckland:20171215T110000
EXDATE;TZID=Pacific/Auckland:20171222T110000
EXDATE;TZID=Pacific/Auckland:20171229T110000
EXDATE;TZID=Pacific/Auckland:20180105T110000
EXDATE;TZID=Pacific/Auckland:20180112T110000
GEO:-36.963694;+174.814096
LOCATION:St Therese Parish Hall @ 10 Wickman Way\, Mangere East\, Auckland 
 2024\, New Zealand
RRULE:FREQ=WEEKLY;BYDAY=FR;WKST=MO
SEQUENCE:0
SUMMARY:St Therese Group
URL:https://toapacific.org.nz/event/st-therese-group/
X-COST-TYPE:free
END:VEVENT
END:VCALENDAR
