BEGIN:VCALENDAR
VERSION:2.0
PRODID:-//104.24.105.1//NONSGML kigkonsult.se iCalcreator 2.26.9//
CALSCALE:GREGORIAN
METHOD:PUBLISH
X-WR-CALNAME:TOA Pacific Inc
X-WR-CALDESC:Treasuring Older Adults\, Aiga Carers  Pacific Families
X-FROM-URL:https://toapacific.org.nz
X-WR-TIMEZONE:Pacific/Auckland
BEGIN:VTIMEZONE
TZID:Pacific/Auckland
X-LIC-LOCATION:Pacific/Auckland
BEGIN:STANDARD
DTSTART:20200405T030000
TZOFFSETFROM:+1300
TZOFFSETTO:+1200
RDATE:20210404T030000
TZNAME:NZST
END:STANDARD
BEGIN:DAYLIGHT
DTSTART:20190929T020000
TZOFFSETFROM:+1200
TZOFFSETTO:+1300
RDATE:20200927T020000
TZNAME:NZDT
END:DAYLIGHT
END:VTIMEZONE
BEGIN:VEVENT
UID:ai1ec-214@test.pcrepairs.nz/toapac
DTSTAMP:20191218T111942Z
CATEGORIES:
CONTACT:
DESCRIPTION:<div id='et-boc' class='et-boc'>\n			\n		<div class='et-l et-l--post
 '>\n			<div class='et_builder_inner_content et_pb_gutters3'>\n		\n		</div><!-- .e
 t_builder_inner_content -->\n	</div><!-- .et-l -->\n	\n			\n		</div><!-- #et-boc 
 -->
DTSTART;TZID=Pacific/Auckland:20171129T110000
DTEND;TZID=Pacific/Auckland:20171129T140000
EXDATE;TZID=Pacific/Auckland:20171213T110000
EXDATE;TZID=Pacific/Auckland:20171220T110000
EXDATE;TZID=Pacific/Auckland:20171227T110000
EXDATE;TZID=Pacific/Auckland:20180103T110000
EXDATE;TZID=Pacific/Auckland:20180110T110000
GEO:-36.941312;+174.841154
LOCATION:TOA Pacific Incorporated @ 214 Great South Rd\, Otahuhu\, Auckland
  1062\, New Zealand
RRULE:FREQ=WEEKLY;BYDAY=WE;WKST=MO
SEQUENCE:0
SUMMARY:Time Out Programme
URL:https://toapacific.org.nz/event/time-out-programme/
X-COST-TYPE:free
END:VEVENT
END:VCALENDAR
