BEGIN:VCALENDAR
VERSION:2.0
PRODID:-//104.24.105.1//NONSGML kigkonsult.se iCalcreator 2.20//
CALSCALE:GREGORIAN
METHOD:PUBLISH
X-WR-CALNAME:TOA Pacific Inc
X-WR-CALDESC:Treasuring Older Adults\, Aiga Carers  Pacific Families
X-FROM-URL:http://toapacific.org.nz
X-WR-TIMEZONE:Pacific/Auckland
BEGIN:VTIMEZONE
TZID:Pacific/Auckland
X-LIC-LOCATION:Pacific/Auckland
BEGIN:STANDARD
DTSTART:20180401T030000
TZOFFSETFROM:+1300
TZOFFSETTO:+1200
TZNAME:NZST
END:STANDARD
BEGIN:DAYLIGHT
DTSTART:20170924T020000
TZOFFSETFROM:+1200
TZOFFSETTO:+1300
TZNAME:NZDT
END:DAYLIGHT
END:VTIMEZONE
BEGIN:VEVENT
UID:ai1ec-216@test.pcrepairs.nz/toapac
DTSTAMP:20180125T155613Z
CATEGORIES:
CONTACT:
DESCRIPTION:
DTSTART;TZID=Pacific/Auckland:20171128T100000
DTEND;TZID=Pacific/Auckland:20171128T140000
EXDATE;TZID=Pacific/Auckland:20171212T100000
EXDATE;TZID=Pacific/Auckland:20171219T100000
EXDATE;TZID=Pacific/Auckland:20171226T100000
EXDATE;TZID=Pacific/Auckland:20180102T100000
EXDATE;TZID=Pacific/Auckland:20180109T100000
GEO:-36.941312;+174.841154
LOCATION:TOA Pacific Incorporated @ 214 Great South Rd\, Otahuhu\, Auckland
  1062\, New Zealand
RRULE:FREQ=WEEKLY;BYDAY=TU;WKST=MO
SEQUENCE:0
SUMMARY:Pulapula La Goto Group
URL:http://toapacific.org.nz/event/pulapula-la-goto-group/
X-COST-TYPE:free
END:VEVENT
END:VCALENDAR
